BEGIN:VCALENDAR
VERSION:2.0
PRODID:-//Akademia Sztuki Cukierniczej - ECPv4.5.12.3//NONSGML v1.0//EN
CALSCALE:GREGORIAN
METHOD:PUBLISH
X-WR-CALNAME:Akademia Sztuki Cukierniczej
X-ORIGINAL-URL:https://akademiasztukicukierniczej.pl
X-WR-CALDESC:Events for Akademia Sztuki Cukierniczej
BEGIN:VEVENT
DTSTART;TZID=Europe/Warsaw:20210306T090000
DTEND;TZID=Europe/Warsaw:20210306T183000
DTSTAMP:20260420T053403
CREATED:20210103T001716Z
LAST-MODIFIED:20210103T001716Z
UID:3606-1615021200-1615055400@akademiasztukicukierniczej.pl
SUMMARY:Piętrowy tort w stylu angielskim (z masą cukrową)
DESCRIPTION:\nZapraszamy na warsztaty ze zdobienia tradycyjnego tortu w stylu angielskim czyli z masą cukrową 🙂 \nPoznacie wszystkie zasady dekorowania tortu masą cukrową oraz obkładania na 2 sposoby. Zrobicie dekoracje z isomaltu\, poznacie podstawy malowania na torcie\, zrobicie kwiat z papieru jadalnego i dekoracje 3D przy użyciu atrap (baloniki).\n\nWdzięczna dekoracja pozwoli Wam na poznanie uniwersalnych i nowoczesnych technik zdobienia tortu na różne okazje.\nKurs jest warsztatem z dekorowania\, pracujecie na upieczonych i złożonych przez nas prawdziwych tortach.\nJeśli chcesz się nauczyć piec\, przekładać\, przygotowywać kremy i perfekcyjnie tynkować\, zapraszamy w pierwszej kolejności na kurs "Drip cake love".\n\nKażdy uczestnik ozdobi swój tort i zabierze go w całości do domu.\n\n\n   \n\nPrzebieg warsztatów:\n1. Przedstawienie technik i tajemnic masy cukrowej.\n2. Wyrabianie masy do idealnej konsystencji\, wałkowanie i obkładanie tortu na 2 sposoby - tradycyjny oraz panelowy.\n3. Podstawy malowania\, omówienie barwników i technik.\n4. Podstawy pracy z papierem waflowym - tworzeie kwiatów.\n5. Praca z isomaltem - barwienie\, formowanie.\n6. Stawianie tortu piętrowego i aranżacja dekoracji\n\nWarsztaty poprowadzi Marta Rietz - współzałożycielka Akademii Sztuki Cukierniczej oraz pracowni wypieków artystycznych "Słodkości Marty i Izy"\, weganka i propagatorka zdrowego stylu życia od 12 lat.\nZdobywczyni srebrnego wyróżnienia za "tort okolicznościowy" Cake Festival Poland 2018  oraz "tort weselny" CFP 2017\, brązowego wyróżnienia za "tort weselny" CFP 2016 oraz 2018.\nWspółautorka książki "Warzywna cukiernia Izy i Marty".\n Kliknij\, aby poznać naszą książkę 🙂\n\n\n\nSłodki kitle uszyty przez www.rietzbakeshop.pl\n\n\n\nJak się zapisać na warsztaty?\n\nNapisz do mnie i zarezerwuj miejsce na konkretne warsztaty:\n*wiadomość na fb fb.com/akademiasztukicukierniczej;\n*e-mail biuro@akademiasztukicukierniczej.pl\n\nJeśli masz pytania śmiało dzwoń pod nr tel 696 221 581 🙂\nKażdy uczestnik otrzyma certyfikat ukończenia warsztatów oraz materiały dodatkowe. Przygotowane wypieki zabieracie ze sobą do domu. Organizator zapewnia wszelkie niezbędne materiały szkoleniowe oraz fartuchy na czas warsztatów. Ilość miejsc ograniczona.\n
URL:https://akademiasztukicukierniczej.pl/kalendarz/pietrowy-tort-w-stylu-angielskim-z-masa-cukrowa-1002/
END:VEVENT
END:VCALENDAR