BEGIN:VCALENDAR
VERSION:2.0
PRODID:-//Akademia Sztuki Cukierniczej - ECPv4.5.12.3//NONSGML v1.0//EN
CALSCALE:GREGORIAN
METHOD:PUBLISH
X-WR-CALNAME:Akademia Sztuki Cukierniczej
X-ORIGINAL-URL:https://akademiasztukicukierniczej.pl
X-WR-CALDESC:Events for Akademia Sztuki Cukierniczej
BEGIN:VEVENT
DTSTART;TZID=Europe/Warsaw:20210425T100000
DTEND;TZID=Europe/Warsaw:20210425T160000
DTSTAMP:20260420T004316
CREATED:20210103T004313Z
LAST-MODIFIED:20210420T110538Z
UID:3622-1619344800-1619366400@akademiasztukicukierniczej.pl
SUMMARY:Tort tynkowany - drip cake love
DESCRIPTION:\nZapraszamy na warsztaty z przygotowywania i zdobienia tortów\nw stylu "drip cake" - jednego z najpopularniejszych trendów zdobienia tortów!\nPoznacie zasady przygotowywania idealnego tortu pod ten styl dekorowania. Nauczycie się wypiekać biszkopt\, nasączać\, przygotowywać kremy\, ale co najważniejsze - zdobić w iście cukrowym stylu!\nKażdy uczestnik wykona swój własny tort i zabierze go do domu.\nDodatkowo\, jako jedna z form dekoracji\, nauczycie się wypiekać idealne mini bezy!\nNA NASZYCH WARSZTATACH PRACUJEMY TYLKO NA NATURALNYCH PRODUKTACH.\n\n\n        \n\n\nPrzebieg warsztatów:\n1. Przedstawienie technik i tajemnic idealnego drip cake.\n2. Wypiekanie ciasta\, nasączanie\, przekładanie.\n3. Wypiekanie mini bezików.\n4. Zdobienie tortów.\n5. Inspiracje i aranżacje w zdobieniu tortu.\n6. Zakończenie: wręczenie certyfikatów i wspólne zdjęcie.\nKażdy uczestnik zabiera swój tort do domu 🙂\n\n\n                              \n\n\n\n\n\nProwadząca: Marta Rietz - współzałożycielka Akademii Sztuki Cukierniczej oraz pracowni wypieków artystycznych "Słodkości Marty i Izy"\, weganka i propagatorka zdrowego stylu życia od 12 lat . Zdobywczyni srebrnego wyróżnienia za "tort okolicznościowy" Cake Festival Poland 2018  oraz "tort weselny" CFP 2017\, brązowego wyróżnienia za "tort weselny" CFP 2016 oraz 2018.\nWspółautorka książki "Warzywna cukiernia Izy i Marty". Kliknij\, aby poznać naszą książkę 🙂\n\n\n\n\nsłodki kitle uszyty przez www.rietzbakeshop.pl\n\n\n\n\n\n\n\nJak się zapisać na warsztaty?\nNapisz do mnie i zarezerwuj miejsce na konkretne warsztaty:\n*wiadomość na fb fb.com/akademiasztukicukierniczej;\n*e-mail biuro@akademiasztukicukierniczej.pl\n\nJeśli masz pytania śmiało dzwoń pod nr tel 696 221 581 🙂\nKażdy uczestnik otrzyma certyfikat ukończenia warsztatów oraz materiały dodatkowe. Przygotowane wypieki zabieracie ze sobą do domu. Organizator zapewnia wszelkie niezbędne materiały szkoleniowe oraz fartuchy na czas warsztatów. Ilość miejsc ograniczona.\n\n\n\n\n\n   \n
URL:https://akademiasztukicukierniczej.pl/kalendarz/tort-tynkowany-drip-cake-love-1006/
END:VEVENT
END:VCALENDAR