BEGIN:VCALENDAR
VERSION:2.0
PRODID:-//Akademia Sztuki Cukierniczej - ECPv4.5.12.3//NONSGML v1.0//EN
CALSCALE:GREGORIAN
METHOD:PUBLISH
X-WR-CALNAME:Akademia Sztuki Cukierniczej
X-ORIGINAL-URL:https://akademiasztukicukierniczej.pl
X-WR-CALDESC:Events for Akademia Sztuki Cukierniczej
BEGIN:VEVENT
DTSTART;TZID=Europe/Warsaw:20210321T090000
DTEND;TZID=Europe/Warsaw:20210321T183000
DTSTAMP:20260420T033633
CREATED:20210103T004608Z
LAST-MODIFIED:20210103T004608Z
UID:3624-1616317200-1616351400@akademiasztukicukierniczej.pl
SUMMARY:Wegańskie torty i ciasta
DESCRIPTION:Podczas warsztatów nauczycie się jak stworzyć wegańskie ciasta i torty. Każdy kocha słodycze\, ale nie każdy może sobie na nie pozwolić ze względu na przekonania\, dietę czy alergie pokarmowe.\n\nNa warsztatach pokażemy Wam\, że wegańskie torty istnieją\, są przepyszne i zaskakują ilością kombinacji smakowych!\n\nPoznacie zamienniki jajek\, mleka roślinne\, owocowe konfitury\, kremy i musy.\n\nNa warsztatach nie będziemy używać wegańskich zamienników tradycyjnych produktów\, cały program został stworzony tak\, aby nie sprawiał kłopotu osobom pracującym w zawodzie cukiernika jak i tym\, którzy zaczynają przygodę z weganizmem.\n\n  \n\nPrzygotujemy m.in.:\n\n1.Waniliowo-malinowy tort z żelką malinową\n\n2. Waniliowo-kakowy tort z karemelem bananowym\, kremem orzechowym i budyniem\n\n3.Pistacjowo-waniliowy tort z kremem truskawkowym i żelką\n\n4.Cynamonowo-korzenny tort z kremem piernikowym\, kremem czekoladowym i konfiturą pomarańczową\n\nW programie znajdą się też ciasta takie jak:\n\n-Sernik z tofu\n\n-Chlebek bananowy z czekoladowym kremem na orzechach\n\n-Prawdziwie czekoladowe ciasto z jagodami i kremem czekoladowym na cieciorce\n\n-Jabłkowe ciasto z jaglanym kremem\n                               \n\n\n\n\nWarsztaty poprowadzi Marta Rietz - współzałożycielka Akademii Sztuki Cukierniczej oraz pracowni wypieków artystycznych "Słodkości Marty i Izy"\, weganka i propagatorka zdrowego stylu życia od 12 lat.\nZdobywczyni srebrnego wyróżnienia za "tort okolicznościowy" Cake Festival Poland 2018  oraz "tort weselny" CFP 2017\, brązowego wyróżnienia za "tort weselny" CFP 2016 oraz 2018.\nWspółautorka książki "Warzywna cukiernia Izy i Marty". Kliknij\, aby poznać naszą książkę 🙂\n\n\n\nSłodki kitle uszyty przez www.rietzbakeshop.pl\n\n\n\nJak się zapisać na warsztaty?\n\nNapisz do mnie i zarezerwuj miejsce na konkretne warsztaty:\n*wiadomość na fb fb.com/akademiasztukicukierniczej;\n*e-mail biuro@akademiasztukicukierniczej.pl\n\nJeśli masz pytania śmiało dzwoń pod nr tel 696 221 581 🙂\nKażdy uczestnik otrzyma certyfikat ukończenia warsztatów oraz materiały dodatkowe. Przygotowane wypieki zabieracie ze sobą do domu. Organizator zapewnia wszelkie niezbędne materiały szkoleniowe oraz fartuchy na czas warsztatów. Ilość miejsc ograniczona.\n\n\n\n\n\n
URL:https://akademiasztukicukierniczej.pl/kalendarz/weganskie-torty-i-ciasta-1002/
END:VEVENT
END:VCALENDAR